BEGIN:VCALENDAR
VERSION:2.0
PRODID:-//ChamberMaster//Event Calendar 2.0//EN
METHOD:PUBLISH
X-PUBLISHED-TTL:P3D
REFRESH-INTERVAL:P3D
CALSCALE:GREGORIAN
BEGIN:VEVENT
DTSTART:20260429T040000Z
DTEND:20260429T043000Z
X-MICROSOFT-CDO-ALLDAYEVENT:FALSE
SUMMARY:Ribbon Cutting: Homestead 4/2026
DESCRIPTION:Stop Renting. Start Building Equity! \n\nJoin us as we celebrate the ribbon cutting for Homestead\, a community dedicated to making homeownership more accessible in Sanford\, NC.\n\nHomestead is committed to providing quality\, affordable homes designed for buyers on a budget: helping more individuals and families take the next step toward owning a place to call their own.\n\nCome out\, show your support\, and learn how you can turn the dream of homeownership into a reality!\n\n\n\nPlease join us for a Ribbon Cutting to celebrate on Wednesday\, April 29th from 12:00 - 12:30pm.
X-ALT-DESC;FMTTYPE=text/html:<p data-end="112" data-start="66"><span style="font-size:14px\;"><span style="font-family:tahoma\;"><strong data-end="106" data-start="66">Stop Renting. Start Building Equity!</strong>&nbsp\;</span></span></p>\n\n<p data-end="251" data-start="114"><span style="font-size:14px\;"><span style="font-family:tahoma\;">Join us as we celebrate the ribbon cutting for Homestead\, a community dedicated to making homeownership more accessible in Sanford\, NC.</span></span></p>\n\n<p data-end="446" data-start="253"><span style="font-size:14px\;"><span style="font-family:tahoma\;">Homestead is committed to providing quality\, affordable homes designed for buyers on a budget: helping more individuals and families take the next step toward owning a place to call their own.</span></span></p>\n\n<p data-end="546" data-is-last-node="" data-is-only-node="" data-start="448"><span style="font-size:14px\;"><span style="font-family:tahoma\;">Come out\, show your support\, and learn how you can turn the dream of homeownership into a reality!<br />\n<br />\nPlease join us for a Ribbon Cutting to celebrate on Wednesday\, April 29th&nbsp\;from&nbsp\;12:00 - 12:30pm.</span></span><br />\n&nbsp\;</p>\n
LOCATION:Homestead 115 Whetstone Road Sanford\, NC 27332
UID:e.2280.3495
SEQUENCE:3
DTSTAMP:20260424T231836Z
URL:https://businessdev.growsanfordnc.com/events/details/ribbon-cutting-homestead-4-2026-3495
END:VEVENT

END:VCALENDAR
